BEGIN:VCALENDAR
VERSION:2.0
PRODID:-//Tukios.com/
BEGIN:VEVENT
UID:69b59fab-86e7-422b-9fcf-b1c9d2b4ebcc@www.jamesfhwrens.com
DTSTAMP:20260422T235920Z
DTSTART:20260426T180000Z
DTEND:20260426T190000Z
SUMMARY:Memorial Service
DESCRIPTION:
URL:https://www.jamesfhwrens.com/obituaries/jefferson-felton-harden
LOCATION: Bethel Church Rd  Gibson GA 30810
GEO:33.2340983;-82.5024447
END:VEVENT
END:VCALENDAR