BEGIN:VCALENDAR
VERSION:2.0
PRODID:-//Tukios.com/
BEGIN:VEVENT
UID:830078e3-9a4b-4589-ae52-dd0ff010d106@www.jamesfhwrens.com
DTSTAMP:20260422T235940Z
DTSTART:20260425T190000Z
DTEND:20260425T210000Z
SUMMARY:Visitation
DESCRIPTION:
URL:https://www.jamesfhwrens.com/obituaries/jefferson-felton-harden
LOCATION: 630 N Main St  Wrens GA 30833
GEO:33.2161314;-82.3806746
END:VEVENT
END:VCALENDAR