BEGIN:VCALENDAR
VERSION:2.0
PRODID:-//Tukios.com/
BEGIN:VEVENT
UID:50fef0b4-978f-4312-b530-3bb206f3aa69@www.jamesfhwrens.com
DTSTAMP:20260420T235858Z
DTSTART:20260424T230000Z
DTEND:20260425T000000Z
SUMMARY:Celebration of Life
DESCRIPTION:
URL:https://www.jamesfhwrens.com/obituaries/helen-woods
LOCATION: 630 N Main St  Wrens GA 30833
GEO:33.2161314;-82.3806746
END:VEVENT
END:VCALENDAR