BEGIN:VCALENDAR
VERSION:2.0
PRODID:-//Tukios.com/
BEGIN:VEVENT
UID:1c0095ef-0185-4b4e-8ae6-6e5b93f9ed0f@www.jamesfhwrens.com
DTSTAMP:20260421T000143Z
DTSTART:20260424T220000Z
DTEND:20260424T230000Z
SUMMARY:Visitation
DESCRIPTION:
URL:https://www.jamesfhwrens.com/obituaries/helen-woods
LOCATION: 630 N Main St  Wrens GA 30833
GEO:33.2161314;-82.3806746
END:VEVENT
END:VCALENDAR